BEGIN:VCALENDAR
VERSION:2.0
PRODID:-//Beloit Historical Society - ECPv6.15.20//NONSGML v1.0//EN
CALSCALE:GREGORIAN
METHOD:PUBLISH
X-WR-CALNAME:Beloit Historical Society
X-ORIGINAL-URL:https://beloithistory.org
X-WR-CALDESC:Events for Beloit Historical Society
REFRESH-INTERVAL;VALUE=DURATION:PT1H
X-Robots-Tag:noindex
X-PUBLISHED-TTL:PT1H
BEGIN:VTIMEZONE
TZID:America/Chicago
BEGIN:DAYLIGHT
TZOFFSETFROM:-0600
TZOFFSETTO:-0500
TZNAME:CDT
DTSTART:20240310T080000
END:DAYLIGHT
BEGIN:STANDARD
TZOFFSETFROM:-0500
TZOFFSETTO:-0600
TZNAME:CST
DTSTART:20241103T070000
END:STANDARD
BEGIN:DAYLIGHT
TZOFFSETFROM:-0600
TZOFFSETTO:-0500
TZNAME:CDT
DTSTART:20250309T080000
END:DAYLIGHT
BEGIN:STANDARD
TZOFFSETFROM:-0500
TZOFFSETTO:-0600
TZNAME:CST
DTSTART:20251102T070000
END:STANDARD
BEGIN:DAYLIGHT
TZOFFSETFROM:-0600
TZOFFSETTO:-0500
TZNAME:CDT
DTSTART:20260308T080000
END:DAYLIGHT
BEGIN:STANDARD
TZOFFSETFROM:-0500
TZOFFSETTO:-0600
TZNAME:CST
DTSTART:20261101T070000
END:STANDARD
END:VTIMEZONE
BEGIN:VEVENT
DTSTART;VALUE=DATE:20251108
DTEND;VALUE=DATE:20251110
DTSTAMP:20260422T090228
CREATED:20250120T032439Z
LAST-MODIFIED:20251002T234650Z
UID:613-1762560000-1762732799@beloithistory.org
SUMMARY:Quilt & Textile Show
DESCRIPTION:
URL:https://beloithistory.org/event/quilt-textile-show/
LOCATION:Beloit Historical Society\, 845 Hackett St.\, Beloit\, WI\, 53511\, United States
ATTACH;FMTTYPE=image/jpeg:https://beloithistory.org/wp-content/uploads/2025/01/quilt-and-textile-show-a.jpg
ORGANIZER;CN="Beloit Historical Society":MAILTO:info@beloithistoricalsociety.com
END:VEVENT
BEGIN:VEVENT
DTSTART;TZID=America/Chicago:20251016T190000
DTEND;TZID=America/Chicago:20251016T203000
DTSTAMP:20260422T090228
CREATED:20251002T180023Z
LAST-MODIFIED:20251002T214535Z
UID:1722-1760641200-1760646600@beloithistory.org
SUMMARY:Trivia Night Fundraiser
DESCRIPTION:
URL:https://beloithistory.org/event/trivia-nightfundraiser/
LOCATION:Beloit Historical Society\, 845 Hackett St.\, Beloit\, WI\, 53511\, United States
ATTACH;FMTTYPE=image/jpeg:https://beloithistory.org/wp-content/uploads/2025/10/trivia-night-beloit-historical-society.jpg
ORGANIZER;CN="Beloit Historical Society":MAILTO:info@beloithistoricalsociety.com
END:VEVENT
BEGIN:VEVENT
DTSTART;VALUE=DATE:20250601
DTEND;VALUE=DATE:20250701
DTSTAMP:20260422T090228
CREATED:20250120T004502Z
LAST-MODIFIED:20250120T005033Z
UID:602-1748736000-1751327999@beloithistory.org
SUMMARY:Sports Hall Of Fame Induction Ceremony
DESCRIPTION:
URL:https://beloithistory.org/event/sports-hall-of-fame-induction-ceremony/
LOCATION:Beloit Historical Society\, 845 Hackett St.\, Beloit\, WI\, 53511\, United States
ATTACH;FMTTYPE=image/jpeg:https://beloithistory.org/wp-content/uploads/2025/01/basketball_fairbanks_morse_women.jpg
ORGANIZER;CN="Beloit Historical Society":MAILTO:info@beloithistoricalsociety.com
END:VEVENT
BEGIN:VEVENT
DTSTART;VALUE=DATE:20250501
DTEND;VALUE=DATE:20250601
DTSTAMP:20260422T090228
CREATED:20250120T002540Z
LAST-MODIFIED:20250120T005053Z
UID:597-1746057600-1748735999@beloithistory.org
SUMMARY:Annual Membership Meeting
DESCRIPTION:
URL:https://beloithistory.org/event/annual-membership-meeting/
LOCATION:Beloit Historical Society\, 845 Hackett St.\, Beloit\, WI\, 53511\, United States
ATTACH;FMTTYPE=image/jpeg:https://beloithistory.org/wp-content/uploads/2025/01/annual-membership-meeting-a.jpg
ORGANIZER;CN="Beloit Historical Society":MAILTO:info@beloithistoricalsociety.com
END:VEVENT
BEGIN:VEVENT
DTSTART;VALUE=DATE:20250401
DTEND;VALUE=DATE:20250501
DTSTAMP:20260422T090228
CREATED:20250119T161110Z
LAST-MODIFIED:20250119T161404Z
UID:592-1743465600-1746057599@beloithistory.org
SUMMARY:Shaping How We Lived
DESCRIPTION:
URL:https://beloithistory.org/event/shaping-how-we-lived/
LOCATION:Beloit Historical Society\, 845 Hackett St.\, Beloit\, WI\, 53511\, United States
ATTACH;FMTTYPE=image/jpeg:https://beloithistory.org/wp-content/uploads/2025/01/river-stone-vernacular.jpg
ORGANIZER;CN="Beloit Historical Society":MAILTO:info@beloithistoricalsociety.com
END:VEVENT
BEGIN:VEVENT
DTSTART;VALUE=DATE:20250301
DTEND;VALUE=DATE:20250401
DTSTAMP:20260422T090228
CREATED:20250119T012909Z
LAST-MODIFIED:20250119T161450Z
UID:583-1740787200-1743465599@beloithistory.org
SUMMARY:Women's History ExhibitWomen's Clubs
DESCRIPTION:
URL:https://beloithistory.org/event/womens-history-exhibit-womens-clubs/
LOCATION:Beloit Historical Society\, 845 Hackett St.\, Beloit\, WI\, 53511\, United States
ATTACH;FMTTYPE=image/jpeg:https://beloithistory.org/wp-content/uploads/2025/01/culture-club-beloit.jpg
ORGANIZER;CN="Beloit Historical Society":MAILTO:info@beloithistoricalsociety.com
END:VEVENT
BEGIN:VEVENT
DTSTART;TZID=America/Chicago:20250225T110000
DTEND;TZID=America/Chicago:20250225T130000
DTSTAMP:20260422T090228
CREATED:20250118T202024Z
LAST-MODIFIED:20250119T161730Z
UID:566-1740481200-1740488400@beloithistory.org
SUMMARY:Achievements Against the OddsSoul Food Luncheon
DESCRIPTION:
URL:https://beloithistory.org/event/achievements-against-the-oddssoul-food-luncheon/
LOCATION:Blackhawk Technical College\, 6004 S. County Rd. G\, Janesville\, WI\, 53546
ATTACH;FMTTYPE=image/jpeg:https://beloithistory.org/wp-content/uploads/2025/01/black-women-achivements-against-the-odds.jpg
END:VEVENT
END:VCALENDAR